BEGIN:VCALENDAR
VERSION:2.0
PRODID:-//Indira Gandhi Institute of Development Research - ECPv4.1.2//NONSGML v1.0//EN
CALSCALE:GREGORIAN
METHOD:PUBLISH
X-WR-CALNAME:Indira Gandhi Institute of Development Research
X-ORIGINAL-URL:http://www.igidr.ac.in
X-WR-CALDESC:Events for Indira Gandhi Institute of Development Research
BEGIN:VEVENT
DTSTART;TZID=Asia/Kolkata:20200831T160000
DTEND;TZID=Asia/Kolkata:20200831T170000
DTSTAMP:20260424T130226
CREATED:20200828T074427
LAST-MODIFIED:20200829T055410
UID:10066-1598889600-1598893200@www.igidr.ac.in
SUMMARY:IGIDR Webinar: Cash for Votes: Evidence from India
DESCRIPTION:Speaker: Dr. Shabana Mitra\, Indian Institute of Management\, Bangalore\n\nDate & Hour:31st August 2020\, 04:00 pm\n\nTitle:Cash for Votes: Evidence from India\n\nAbstract:\n\nThis paper investigates the prevalence of vote-buying in democratic elections where stringent restrictions on corporate donations to political parties exist. We combine data from state assembly elections in India with household-level consumer expenditure and employment surveys (conducted by NSSO) over the period 2004-11. Exploiting a difference-in-difference methodology\, we estimate the effect elections have on the consumption of various household items: food\, clothes\, education-related\, etc. Moreover\, there is heterogeneity in such consumption adjustments across households. We also find that in the same period\, though work days increase\, total wages are falling. Our estimates suggest that legal sources of funds and a mere increase in economic activity are not sufficient for generating such “spikes” in consumption and indicate the role of the hidden economy in politic
URL:http://www.igidr.ac.in/seminars/igidr-webinar-5/
LOCATION:IGIDR\, Santosh Nagr\, Goregaon East\, Mumbai\, 400065\, India
CATEGORIES:Upcoming events
END:VEVENT
END:VCALENDAR