BEGIN:VCALENDAR
VERSION:2.0
PRODID:-//Indira Gandhi Institute of Development Research - ECPv4.1.2//NONSGML v1.0//EN
CALSCALE:GREGORIAN
METHOD:PUBLISH
X-WR-CALNAME:Indira Gandhi Institute of Development Research
X-ORIGINAL-URL:http://www.igidr.ac.in
X-WR-CALDESC:Events for Indira Gandhi Institute of Development Research
BEGIN:VEVENT
DTSTART;TZID=Asia/Kolkata:20201209T160000
DTEND;TZID=Asia/Kolkata:20201209T170000
DTSTAMP:20260422T023359
CREATED:20201208T084726
LAST-MODIFIED:20201208T084738
UID:10552-1607529600-1607533200@www.igidr.ac.in
SUMMARY:IGIDR Webinar: A (prospective) review of agricultural productivity in India
DESCRIPTION:Speaker: Professor J. V. Meenakshi\, Delhi School of Economics\, New Delhi \n\nDate & Hour: 09 December 2020\, 4:00 pm \n\nTitle: A (prospective) review of agricultural productivity in India \n\nAbstract: The paper attempts to review the literature dealing with agricultural productivity in India. It does from lenses of (a) farm-size and productivity (b) sustainable resource (water) use and (c) climate change. Set against the backdrop of a structural transformation within agriculture\, the review suggests that there are large gaps in our understanding of the extent of technical change in several sectors\, their implications for labour and other factor productivity\, and\, in turn\, for sustainable and resilient livelihoods. 
URL:http://www.igidr.ac.in/seminars/prospective-review-agricultural-productivity-india/
CATEGORIES:Upcoming events
END:VEVENT
END:VCALENDAR