BEGIN:VCALENDAR
VERSION:2.0
PRODID:-//Indira Gandhi Institute of Development Research - ECPv4.1.2//NONSGML v1.0//EN
CALSCALE:GREGORIAN
METHOD:PUBLISH
X-WR-CALNAME:Indira Gandhi Institute of Development Research
X-ORIGINAL-URL:http://www.igidr.ac.in
X-WR-CALDESC:Events for Indira Gandhi Institute of Development Research
BEGIN:VEVENT
DTSTART;VALUE=DATE:20201217
DTEND;VALUE=DATE:20201219
DTSTAMP:20260422T023245
CREATED:20201203
LAST-MODIFIED:20201203
UID:10501-1608163200-1608422399@www.igidr.ac.in
SUMMARY:First Biennial Conference on Development - Trade and Development
DESCRIPTION:Indira Gandhi Institute of Development Research (IGIDR) is organizing the First Biennial Conferences on Development during 17-19 December\, 2020. Each Conference in this series will focus on a specific theme within the area of “Development”. The theme of the conference for this year is "Trade and Development".\n\nThe Conference will include three keynote addresses by leading economists on the theme: Professor Arvind Panagariya (Columbia University)\, Professor Amit K. Khandelwal (Columbia Business School) and Professor Kalina Manova (University College London). The Conference also includes a Special Lecture by Professor Sugata Marjit (IIFT) and 14 paper presentations. \n\nHere is the program schedule for this year's conference.\n\nDue to the Covid-19 situation\, this year’s conference will be held virtually via Zoom. We are happy to invite you to participate in the conference. Registration is compulsory. The registration link will be provided soon.\n\n
URL:http://www.igidr.ac.in/seminars/trade-development-igidr-web-conference/
CATEGORIES:Upcoming events
END:VEVENT
END:VCALENDAR