BEGIN:VCALENDAR
VERSION:2.0
PRODID:-//Indira Gandhi Institute of Development Research - ECPv4.1.2//NONSGML v1.0//EN
CALSCALE:GREGORIAN
METHOD:PUBLISH
X-WR-CALNAME:Indira Gandhi Institute of Development Research
X-ORIGINAL-URL:http://www.igidr.ac.in
X-WR-CALDESC:Events for Indira Gandhi Institute of Development Research
BEGIN:VEVENT
DTSTART;TZID=Asia/Kolkata:20231214T090000
DTEND;TZID=Asia/Kolkata:20231216T170000
DTSTAMP:20260421T061755
CREATED:20231121T121354
LAST-MODIFIED:20231121T121354
UID:17453-1702544400-1702746000@www.igidr.ac.in
SUMMARY:20th Macroeconomics and Finance Conference
DESCRIPTION:The Indira Gandhi Institute of Development Research (IGIDR) invites submissions of research papers for its 20th Macroeconomics and Finance Conference to be held during December 14-16\, 2023. The objective of the Conference is to bring together scholars who are engaged in quality research in macroeconomics and finance\, and to provide a forum for the exchange of ideas that seek to push the boundaries of existing research\, particularly with respect to emerging economies like India.\n\nFor more information\, click here for the MFC website.
URL:http://www.igidr.ac.in/seminars/20th-macroeconomics-finance-conference/
LOCATION:IGIDR\, Santosh Nagr\, Goregaon East\, Mumbai\, 400065\, India
CATEGORIES:Upcoming events
END:VEVENT
END:VCALENDAR