BEGIN:VCALENDAR
VERSION:2.0
PRODID:-//Indira Gandhi Institute of Development Research - ECPv4.1.2//NONSGML v1.0//EN
CALSCALE:GREGORIAN
METHOD:PUBLISH
X-WR-CALNAME:Indira Gandhi Institute of Development Research
X-ORIGINAL-URL:http://www.igidr.ac.in
X-WR-CALDESC:Events for Indira Gandhi Institute of Development Research
BEGIN:VEVENT
DTSTART;TZID=Asia/Kolkata:20151113T080000
DTEND;TZID=Asia/Kolkata:20151113T170000
DTSTAMP:20260420T161110
CREATED:20151112T183046
LAST-MODIFIED:20151118T064201
UID:770-1447401600-1447434000@www.igidr.ac.in
SUMMARY:CAFRAL IGIDR Winter School
DESCRIPTION:CAFRAL IGIDR Winter School Dec 12-16 2015\n\nProgram and Application Details:\nwww.cafral.org.in/Winter-School-Program.aspx\n\nFor application process(only Online applications accepted) :\nwww.cafral.org.in/Winter-School-Application.aspx  
URL:http://www.igidr.ac.in/seminars/cafral-igidr-winter-school-dec-12-16-2015/
END:VEVENT
END:VCALENDAR