BEGIN:VCALENDAR
VERSION:2.0
PRODID:-//Indira Gandhi Institute of Development Research - ECPv4.1.2//NONSGML v1.0//EN
CALSCALE:GREGORIAN
METHOD:PUBLISH
X-WR-CALNAME:Indira Gandhi Institute of Development Research
X-ORIGINAL-URL:http://www.igidr.ac.in
X-WR-CALDESC:Events for Indira Gandhi Institute of Development Research
BEGIN:VEVENT
DTSTART;TZID=Asia/Kolkata:20250507T153000
DTEND;TZID=Asia/Kolkata:20250507T170000
DTSTAMP:20260425T030920
CREATED:20250429T070907
LAST-MODIFIED:20250502T092142
UID:19760-1746631800-1746637200@www.igidr.ac.in
SUMMARY:IGIDR Distinguished Lecture:  by Professor Arvind Panagariya\, (Chairman\, The  Sixteenth Finance Commission) on his latest book “The Nehru Development Model: History and Its Lasting Impact”.
DESCRIPTION:\n\n\n\n[button link="https://www.youtube.com/live/YaSR4TLwcLY" color="blue" window="yes"]Watch Live on Youtube[/button]
URL:http://www.igidr.ac.in/seminars/igidr-distinguished-lecture-professor-arvind-panagariya-chairman-sixteenth-finance-commission-latest-book-nehru-development-model-history-lasting-impact/
CATEGORIES:Upcoming events
END:VEVENT
END:VCALENDAR