BEGIN:VCALENDAR
VERSION:2.0
PRODID:-//Indira Gandhi Institute of Development Research - ECPv4.1.2//NONSGML v1.0//EN
CALSCALE:GREGORIAN
METHOD:PUBLISH
X-WR-CALNAME:Indira Gandhi Institute of Development Research
X-ORIGINAL-URL:http://www.igidr.ac.in
X-WR-CALDESC:Events for Indira Gandhi Institute of Development Research
BEGIN:VEVENT
DTSTART;VALUE=DATE:20180328
DTEND;VALUE=DATE:20180328
DTSTAMP:20260424T224519
CREATED:20180320
LAST-MODIFIED:20180426
UID:5461-1522195200-1522281599@www.igidr.ac.in
SUMMARY:IGIDR Fifteenth Convocation
DESCRIPTION:\n\n \n\n\n\n\n\n   
URL:http://www.igidr.ac.in/seminars/igidr-fifteenth-convocation/
LOCATION:IGIDR\, Santosh Nagr\, Goregaon East\, Mumbai\, 400065\, India
END:VEVENT
END:VCALENDAR