BEGIN:VCALENDAR
VERSION:2.0
PRODID:-//Indira Gandhi Institute of Development Research - ECPv4.1.2//NONSGML v1.0//EN
CALSCALE:GREGORIAN
METHOD:PUBLISH
X-WR-CALNAME:Indira Gandhi Institute of Development Research
X-ORIGINAL-URL:http://www.igidr.ac.in
X-WR-CALDESC:Events for Indira Gandhi Institute of Development Research
BEGIN:VEVENT
DTSTART;TZID=Asia/Kolkata:20190227T160000
DTEND;TZID=Asia/Kolkata:20190227T160000
DTSTAMP:20260423T123625
CREATED:20190423T071437
LAST-MODIFIED:20190423T071552
UID:7618-1551283200-1551283200@www.igidr.ac.in
SUMMARY:IGIDR Seminar - 27 February 2019\, 4:00 pm.\, Seminar Hall 1
DESCRIPTION:Date & Hour: 27 February 2019\, 4:00 pm\n\nVenue: Seminar Hall 1\n\nTitle: Marginning systems for commodities futures markets: A Review\n\nBy Dr. Mandira Sarma\, Centre for International Trade and Development\, School of International Studies\, Jawaharlal Nehru University\, Delhi. 
URL:http://www.igidr.ac.in/seminars/igidr-seminar-27-february-2019-400-pm-seminar-hall-1/
CATEGORIES:Upcoming events
END:VEVENT
END:VCALENDAR