BEGIN:VCALENDAR
VERSION:2.0
PRODID:-//Indira Gandhi Institute of Development Research - ECPv4.1.2//NONSGML v1.0//EN
CALSCALE:GREGORIAN
METHOD:PUBLISH
X-WR-CALNAME:Indira Gandhi Institute of Development Research
X-ORIGINAL-URL:http://www.igidr.ac.in
X-WR-CALDESC:Events for Indira Gandhi Institute of Development Research
BEGIN:VEVENT
DTSTART;TZID=Asia/Kolkata:20221123T161500
DTEND;TZID=Asia/Kolkata:20221123T170000
DTSTAMP:20260422T033248
CREATED:20221122T130910
LAST-MODIFIED:20221122T131201
UID:15034-1669220100-1669222800@www.igidr.ac.in
SUMMARY:IGIDR SEMINAR: Commodity Price Shocks and Non-Performing Assets in the Indian Banking Sector by Dr. Abhishek Kumar\, (CSEP)
DESCRIPTION:\nAbstract:-\nNon-performing assets in the Indian banking sector increased significantly in the 2010s\, accompanied by a slowdown in credit and GDP growth rates. In this paper\, we show that non-performing assets in the banking sector and profit ratios in commodity-sensitive non-financial sectors are highly correlated with global commodity prices. To estimate the effect of movement in commodity prices on non-performing assets\, we create nominal price and inflation exposure indices for banks using novel data on banks' sectoral exposure and commodity prices. These measures capture banks' exposure to commodity prices through their borrowers' profitability and cash flow and act as income shocks for banks. Results from a range of models suggest that a 1% decline in nominal exposure increases non-performing assets by 0.20-1.35% and these models explain ~30% of the increase in non-performing assets. Since public sector banks in general had higher exposure to commodity-sensitive sectors\, they experienced a relatively higher decline in nominal exposure and a more significant rise in non-performing assets after the price crash of the 2010s. The increase in non-performing assets is followed by a decrease in credit growth. These results help us in understanding the origins of India's twin balance sheet crises of the 2010s.
URL:http://www.igidr.ac.in/seminars/igidr-seminar-commodity-price-shocks-non-performing-assets-indian-banking-sector-dr-abhishek-kumar-csep/
LOCATION:IGIDR\, Santosh Nagr\, Goregaon East\, Mumbai\, 400065\, India
CATEGORIES:Seminars,Upcoming events
END:VEVENT
END:VCALENDAR