BEGIN:VCALENDAR
VERSION:2.0
PRODID:-//Indira Gandhi Institute of Development Research - ECPv4.1.2//NONSGML v1.0//EN
CALSCALE:GREGORIAN
METHOD:PUBLISH
X-WR-CALNAME:Indira Gandhi Institute of Development Research
X-ORIGINAL-URL:http://www.igidr.ac.in
X-WR-CALDESC:Events for Indira Gandhi Institute of Development Research
BEGIN:VEVENT
DTSTART;TZID=Asia/Kolkata:20250929T113000
DTEND;TZID=Asia/Kolkata:20250929T130000
DTSTAMP:20260425T011950
CREATED:20250925T072914
LAST-MODIFIED:20250925T072914
UID:20371-1759145400-1759150800@www.igidr.ac.in
SUMMARY:IGIDR Seminar: “Freebies or Rights?\, The Right(s) Perspective”  by Professor Reetika Khera Indian Institute of Technology\, Delhi
DESCRIPTION: \n
URL:http://www.igidr.ac.in/seminars/igidr-seminar-electric-vehicles-hidden-implications-india-prof-saumen-majumdar-iim-tiruchirappalli/
CATEGORIES:Seminars,Upcoming events
END:VEVENT
END:VCALENDAR