BEGIN:VCALENDAR
VERSION:2.0
PRODID:-//Indira Gandhi Institute of Development Research - ECPv4.1.2//NONSGML v1.0//EN
CALSCALE:GREGORIAN
METHOD:PUBLISH
X-WR-CALNAME:Indira Gandhi Institute of Development Research
X-ORIGINAL-URL:http://www.igidr.ac.in
X-WR-CALDESC:Events for Indira Gandhi Institute of Development Research
BEGIN:VEVENT
DTSTART;TZID=Asia/Kolkata:20250924T161500
DTEND;TZID=Asia/Kolkata:20250924T173000
DTSTAMP:20260425T012120
CREATED:20250919T050533
LAST-MODIFIED:20250919T051301
UID:20327-1758730500-1758735000@www.igidr.ac.in
SUMMARY:IGIDR Seminar: “An Informational Theory of Alliances”  by Dr. Raghul S Venkatesh Assistant Professor (IISER\, Bhopal)
DESCRIPTION: \n
URL:http://www.igidr.ac.in/seminars/igidr-seminar-learning-others-social-learning-helps-dr-srijita-ghosh-assistant-professor-ashoka-university-2/
CATEGORIES:Upcoming events
END:VEVENT
END:VCALENDAR