BEGIN:VCALENDAR
VERSION:2.0
PRODID:-//Indira Gandhi Institute of Development Research - ECPv4.1.2//NONSGML v1.0//EN
CALSCALE:GREGORIAN
METHOD:PUBLISH
X-WR-CALNAME:Indira Gandhi Institute of Development Research
X-ORIGINAL-URL:http://www.igidr.ac.in
X-WR-CALDESC:Events for Indira Gandhi Institute of Development Research
BEGIN:VEVENT
DTSTART;TZID=Asia/Kolkata:20250917T161500
DTEND;TZID=Asia/Kolkata:20250917T173000
DTSTAMP:20260425T030913
CREATED:20250912T102736
LAST-MODIFIED:20250912T102736
UID:20287-1758125700-1758130200@www.igidr.ac.in
SUMMARY:IGIDR Seminar: “Learning from others: when social learning helps”  by Dr. Srijita Ghosh (Assistant Professor\, Ashoka University)
DESCRIPTION: \n
URL:http://www.igidr.ac.in/seminars/igidr-seminar-learning-others-social-learning-helps-dr-srijita-ghosh-assistant-professor-ashoka-university/
CATEGORIES:Seminars,Upcoming events
END:VEVENT
END:VCALENDAR