BEGIN:VCALENDAR
VERSION:2.0
PRODID:-//Indira Gandhi Institute of Development Research - ECPv4.1.2//NONSGML v1.0//EN
CALSCALE:GREGORIAN
METHOD:PUBLISH
X-WR-CALNAME:Indira Gandhi Institute of Development Research
X-ORIGINAL-URL:http://www.igidr.ac.in
X-WR-CALDESC:Events for Indira Gandhi Institute of Development Research
BEGIN:VEVENT
DTSTART;TZID=Asia/Kolkata:20250721T161500
DTEND;TZID=Asia/Kolkata:20250721T173000
DTSTAMP:20260425T030919
CREATED:20250716T111303
LAST-MODIFIED:20250716T111401
UID:20089-1753114500-1753119000@www.igidr.ac.in
SUMMARY:IGIDR Seminar: “Deadweight Losses or Gains from In-kind Transfers: Experimental Evidence”  by Prof. Gaurav Datt (Monash University)
DESCRIPTION: \nAbstract:-\nAre in-kind transfers associated with deadweight losses? To answer this question\, we conducted an incentivized field experiment in India\, offering low-income respondents a choice between a free quantity of rice and varying amounts of cash to elicit their willingness to pay for rice. Contrary to standard economic theory\, we find evidence of deadweight gain on average\, though with variation across respondents. We investigate potential explanations for this result\, focusing on infra-marginality\, commitment considerations and intra-household bargaining dynamics. Notably\, we uncover a striking contrast: women in female-headed households exhibit deadweight losses\, while women in male-headed households experience deadweight gains. Upon examining alternative explanations\, our results highlight that greater bargaining power of women within households increases the propensity to choose cash over rice.
URL:http://www.igidr.ac.in/seminars/igidr-seminar-much-debt-optimal-major-indian-states-economic-growth-vs-debt-sustainability-dr-rudrani-bhattacharya-nipfp-delhi/
CATEGORIES:Seminars,Upcoming events
END:VEVENT
END:VCALENDAR