BEGIN:VCALENDAR
VERSION:2.0
PRODID:-//Indira Gandhi Institute of Development Research - ECPv4.1.2//NONSGML v1.0//EN
CALSCALE:GREGORIAN
METHOD:PUBLISH
X-WR-CALNAME:Indira Gandhi Institute of Development Research
X-ORIGINAL-URL:http://www.igidr.ac.in
X-WR-CALDESC:Events for Indira Gandhi Institute of Development Research
BEGIN:VEVENT
DTSTART;TZID=Asia/Kolkata:20260311T161500
DTEND;TZID=Asia/Kolkata:20260311T173000
DTSTAMP:20260425T000004
CREATED:20260305T105252
LAST-MODIFIED:20260305T105313
UID:21000-1773245700-1773250200@www.igidr.ac.in
SUMMARY:IGIDR Seminar: “Estimating the New Keynesian Phillips Curve (NKPC) with Fat-tailed Events” by Mr. Kaustubh Reserve Bank of India
DESCRIPTION: 
URL:http://www.igidr.ac.in/seminars/igidr-seminar-trade-climate-change-imported-inputs-increase-energy-efficiency-indian-manufacturing-aparna-sawhney-professor-jawaharlal-nehru-university-new-delhi-2/
CATEGORIES:Seminars,Upcoming events
END:VEVENT
END:VCALENDAR