BEGIN:VCALENDAR
VERSION:2.0
PRODID:-//Indira Gandhi Institute of Development Research - ECPv4.1.2//NONSGML v1.0//EN
CALSCALE:GREGORIAN
METHOD:PUBLISH
X-WR-CALNAME:Indira Gandhi Institute of Development Research
X-ORIGINAL-URL:http://www.igidr.ac.in
X-WR-CALDESC:Events for Indira Gandhi Institute of Development Research
BEGIN:VEVENT
DTSTART;TZID=Asia/Kolkata:20170807T163000
DTEND;TZID=Asia/Kolkata:20170807T173000
DTSTAMP:20260425T033850
CREATED:20170804T105629
LAST-MODIFIED:20170804T105638
UID:4687-1502123400-1502127000@www.igidr.ac.in
SUMMARY:Interactive Session: "Current challenges of the Eurosystem and the EU" By Dr Johannes Beermann\, (Member of the Executive Board of the Deutsche Bundesbank)
DESCRIPTION:Date: 7th August 2017\nTime: 4:30 pm to 5:30 pm\nVenue: Seminar Hall 1\, IGIDR\, Mumbai\n\nDr Johannes's bio-note.   
URL:http://www.igidr.ac.in/seminars/interactive-session-current-challenges-eurosystem-eu-dr-johannes-beermann-member-executive-board-deutsche-bundesbank/
END:VEVENT
END:VCALENDAR