BEGIN:VCALENDAR
VERSION:2.0
PRODID:-//Indira Gandhi Institute of Development Research - ECPv4.1.2//NONSGML v1.0//EN
CALSCALE:GREGORIAN
METHOD:PUBLISH
X-WR-CALNAME:Indira Gandhi Institute of Development Research
X-ORIGINAL-URL:http://www.igidr.ac.in
X-WR-CALDESC:Events for Indira Gandhi Institute of Development Research
BEGIN:VEVENT
DTSTART;VALUE=DATE:20201222
DTEND;VALUE=DATE:20201222
DTSTAMP:20260422T023538
CREATED:20201219
LAST-MODIFIED:20201219
UID:10593-1608595200-1608681599@www.igidr.ac.in
SUMMARY:One Day Virtual Seminar On Intellectual Property Rights
DESCRIPTION:
URL:http://www.igidr.ac.in/seminars/one-day-virtual-seminar-intellectual-property-right/
LOCATION:IGIDR\, Santosh Nagr\, Goregaon East\, Mumbai\, 400065\, India
CATEGORIES:Upcoming events
END:VEVENT
END:VCALENDAR