BEGIN:VCALENDAR
VERSION:2.0
PRODID:-//Indira Gandhi Institute of Development Research - ECPv4.1.2//NONSGML v1.0//EN
CALSCALE:GREGORIAN
METHOD:PUBLISH
X-WR-CALNAME:Indira Gandhi Institute of Development Research
X-ORIGINAL-URL:http://www.igidr.ac.in
X-WR-CALDESC:Events for Indira Gandhi Institute of Development Research
BEGIN:VEVENT
DTSTART;TZID=Asia/Kolkata:20181217T113000
DTEND;TZID=Asia/Kolkata:20181217T123000
DTSTAMP:20260423T213313
CREATED:20181210T070712
LAST-MODIFIED:20181214T084529
UID:6680-1545046200-1545049800@www.igidr.ac.in
SUMMARY:Seminar: Global financial and Macro Fragility and Emerging Markets precautionary strategies
DESCRIPTION:Title: Global financial and Macro Fragility and Emerging Markets precautionary strategies\nBy:Professor Joshua Aizenman\, University of Southern California and National Bureau of Economic Research\, USA.\nDate & Hour:17-December-2018\, 11:30 am\nVenue:Seminar Hall 1\,IGIDR.Mumbai
URL:http://www.igidr.ac.in/seminars/seminar-global-financial-macro-fragility-emerging-markets-precautionary-strategies/
CATEGORIES:Upcoming events
END:VEVENT
END:VCALENDAR