BEGIN:VCALENDAR
VERSION:2.0
PRODID:-//Indira Gandhi Institute of Development Research - ECPv4.1.2//NONSGML v1.0//EN
CALSCALE:GREGORIAN
METHOD:PUBLISH
X-WR-CALNAME:Indira Gandhi Institute of Development Research
X-ORIGINAL-URL:http://www.igidr.ac.in
X-WR-CALDESC:Events for Indira Gandhi Institute of Development Research
BEGIN:VEVENT
DTSTART;TZID=Asia/Kolkata:20170405T163000
DTEND;TZID=Asia/Kolkata:20170405T173000
DTSTAMP:20260425T001824
CREATED:20170403T050842
LAST-MODIFIED:20170403T050842
UID:4331-1491409800-1491413400@www.igidr.ac.in
SUMMARY:Seminar : Prioritizing and Sequencing Structural Reforms and Coping with Adjustment Costs in India By Dr. Purva Khera (IMF)
DESCRIPTION:Dr. Purva Khera (IMF) will be presenting a seminar on Wednesday\, 5th April 2017\,  at  4:30 P.M. in Seminar Hall 1.\n\nTitle:  Prioritizing and Sequencing Structural Reforms and Coping with Adjustment Costs in India\n\nAbstract: Based on a small-open economy DSGE model\, this study examines long-term gains and adjustment costs across several deregulation reform scenarios in the labor and product markets and the role for demand management policies in supporting adjustment in India. Given India’s large informal sector\, prioritizing labor market reforms that lead to formal sector job creation maximizes long-run gains and results in lower short-term adjustment costs compared to other reform scenarios. In general\, supportive monetary and fiscal policies help bring forward long-run gains. At the same time\, deregulation makes demand management policies more effective.  
URL:http://www.igidr.ac.in/seminars/seminar-prioritizing-sequencing-structural-reforms-coping-adjustment-costs-india-dr-purva-khera-imf/
END:VEVENT
END:VCALENDAR