BEGIN:VCALENDAR
VERSION:2.0
PRODID:-//Indira Gandhi Institute of Development Research - ECPv4.1.2//NONSGML v1.0//EN
CALSCALE:GREGORIAN
METHOD:PUBLISH
X-WR-CALNAME:Indira Gandhi Institute of Development Research
X-ORIGINAL-URL:http://www.igidr.ac.in
X-WR-CALDESC:Events for Indira Gandhi Institute of Development Research
BEGIN:VEVENT
DTSTART;TZID=Asia/Kolkata:20250505T091500
DTEND;TZID=Asia/Kolkata:20250509T180000
DTSTAMP:20260425T030501
CREATED:20250505T032830
LAST-MODIFIED:20250505T045206
UID:19808-1746436500-1746813600@www.igidr.ac.in
SUMMARY:Training Programme : ISS Probationers of 2024 batch at IGIDR
DESCRIPTION:\n\n[button link="http://www.igidr.ac.in/wp-content/uploads/2025/05/ISS-May-2025-schedule.pdf" window="yes"]Click here for the programme schedule[/button]
URL:http://www.igidr.ac.in/seminars/training-programme-iss-probationers-2024-batch-igidr/
LOCATION:IGIDR\, Mumbai\, Maharashtra\, India
CATEGORIES:Upcoming events,Workshops / Training
END:VEVENT
END:VCALENDAR