BEGIN:VCALENDAR
VERSION:2.0
PRODID:-//Indira Gandhi Institute of Development Research - ECPv4.1.2//NONSGML v1.0//EN
CALSCALE:GREGORIAN
METHOD:PUBLISH
X-WR-CALNAME:Indira Gandhi Institute of Development Research
X-ORIGINAL-URL:http://www.igidr.ac.in
X-WR-CALDESC:Events for Indira Gandhi Institute of Development Research
BEGIN:VEVENT
DTSTART;TZID=Asia/Kolkata:20250503T110000
DTEND;TZID=Asia/Kolkata:20250503T130000
DTSTAMP:20260425T030431
CREATED:20250430T053929
LAST-MODIFIED:20250430T061023
UID:19769-1746270000-1746277200@www.igidr.ac.in
SUMMARY:Twentieth Convocation of IGIDR
DESCRIPTION:\n\n[button link="https://youtube.com/live/xhbqaETw8LQ?" color="blue" window="yes"]Watch Live on Youtube[/button]
URL:http://www.igidr.ac.in/seminars/twentieth-convocation-igidr/
LOCATION:IGIDR\, Mumbai
CATEGORIES:Upcoming events
END:VEVENT
END:VCALENDAR